BEGIN:VCALENDAR
VERSION:2.0
PRODID:-//Tandem - ECPv6.15.20//NONSGML v1.0//EN
CALSCALE:GREGORIAN
METHOD:PUBLISH
X-WR-CALNAME:Tandem
X-ORIGINAL-URL:https://tandembloomington.org
X-WR-CALDESC:Events for Tandem
REFRESH-INTERVAL;VALUE=DURATION:PT1H
X-Robots-Tag:noindex
X-PUBLISHED-TTL:PT1H
BEGIN:VTIMEZONE
TZID:America/Indiana/Indianapolis
BEGIN:DAYLIGHT
TZOFFSETFROM:-0500
TZOFFSETTO:-0400
TZNAME:EDT
DTSTART:20220313T070000
END:DAYLIGHT
BEGIN:STANDARD
TZOFFSETFROM:-0400
TZOFFSETTO:-0500
TZNAME:EST
DTSTART:20221106T060000
END:STANDARD
BEGIN:DAYLIGHT
TZOFFSETFROM:-0500
TZOFFSETTO:-0400
TZNAME:EDT
DTSTART:20230312T070000
END:DAYLIGHT
BEGIN:STANDARD
TZOFFSETFROM:-0400
TZOFFSETTO:-0500
TZNAME:EST
DTSTART:20231105T060000
END:STANDARD
BEGIN:DAYLIGHT
TZOFFSETFROM:-0500
TZOFFSETTO:-0400
TZNAME:EDT
DTSTART:20240310T070000
END:DAYLIGHT
BEGIN:STANDARD
TZOFFSETFROM:-0400
TZOFFSETTO:-0500
TZNAME:EST
DTSTART:20241103T060000
END:STANDARD
END:VTIMEZONE
BEGIN:VEVENT
DTSTART;TZID=America/Indiana/Indianapolis:20231108T120000
DTEND;TZID=America/Indiana/Indianapolis:20231108T140000
DTSTAMP:20260420T232855
CREATED:20231107T214331Z
LAST-MODIFIED:20231107T215359Z
UID:10000002-1699444800-1699452000@tandembloomington.org
SUMMARY:Baby Basic at Tandem
DESCRIPTION:There’s a lot to learn about having a new baby in the house: from diapering and feeding to bathing and skin care. Learn the cues babies give for hunger and sleepiness and calming techniques. All of this and more is available in the Baby Basics class with Postpartum Doula\, Blythe Swartzentruber. \nDesigned for those expecting a baby and those planning to support the new parents! \nMasks optional. \nRegister here: https://forms.office.com/r/NeyJpV5TFF
URL:https://tandembloomington.org/event/baby-basic-at-tandem/
LOCATION:Tandem\, 2613 E 3rd St\, Bloomington\, IN\, 47401\, United States
GEO:39.1644364;-86.5000476
X-APPLE-STRUCTURED-LOCATION;VALUE=URI;X-ADDRESS=Tandem 2613 E 3rd St Bloomington IN 47401 United States;X-APPLE-RADIUS=500;X-TITLE=2613 E 3rd St:geo:-86.5000476,39.1644364
END:VEVENT
BEGIN:VEVENT
DTSTART;TZID=America/Indiana/Indianapolis:20231108T043000
DTEND;TZID=America/Indiana/Indianapolis:20231108T103000
DTSTAMP:20260420T232855
CREATED:20231107T213444Z
LAST-MODIFIED:20231107T214534Z
UID:10000001-1699417800-1699439400@tandembloomington.org
SUMMARY:Tandem Drop-in Open Hours
DESCRIPTION:Come on in to Tandem during open hours to drink tea with us\, bring your playgroup\, get out of the house\, access resources and get great tips and tricks from our staff!!
URL:https://tandembloomington.org/event/tandem-calendar/
LOCATION:Tandem\, 2613 E 3rd St\, Bloomington\, IN\, 47401\, United States
GEO:39.1644364;-86.5000476
X-APPLE-STRUCTURED-LOCATION;VALUE=URI;X-ADDRESS=Tandem 2613 E 3rd St Bloomington IN 47401 United States;X-APPLE-RADIUS=500;X-TITLE=2613 E 3rd St:geo:-86.5000476,39.1644364
END:VEVENT
BEGIN:VEVENT
DTSTART;TZID=America/Indiana/Indianapolis:20231107T043000
DTEND;TZID=America/Indiana/Indianapolis:20231107T103000
DTSTAMP:20260420T232855
CREATED:20231107T214827Z
LAST-MODIFIED:20231107T214827Z
UID:10000003-1699331400-1699353000@tandembloomington.org
SUMMARY:Tandem Drop-In Open Hours
DESCRIPTION:Come on in to Tandem during open hours to drink tea with us\, bring your playgroup\, get out of the house\, access resources and get great tips and tricks from our staff!!
URL:https://tandembloomington.org/event/tandem-drop-in-open-hours/
LOCATION:Tandem\, 2613 E 3rd St\, Bloomington\, IN\, 47401\, United States
GEO:39.1644364;-86.5000476
X-APPLE-STRUCTURED-LOCATION;VALUE=URI;X-ADDRESS=Tandem 2613 E 3rd St Bloomington IN 47401 United States;X-APPLE-RADIUS=500;X-TITLE=2613 E 3rd St:geo:-86.5000476,39.1644364
END:VEVENT
END:VCALENDAR