BEGIN:VCALENDAR
VERSION:2.0
PRODID:-//Tandem - ECPv6.15.20//NONSGML v1.0//EN
CALSCALE:GREGORIAN
METHOD:PUBLISH
X-WR-CALNAME:Tandem
X-ORIGINAL-URL:https://tandembloomington.org
X-WR-CALDESC:Events for Tandem
REFRESH-INTERVAL;VALUE=DURATION:PT1H
X-Robots-Tag:noindex
X-PUBLISHED-TTL:PT1H
BEGIN:VTIMEZONE
TZID:America/Indiana/Indianapolis
BEGIN:DAYLIGHT
TZOFFSETFROM:-0500
TZOFFSETTO:-0400
TZNAME:EDT
DTSTART:20230312T070000
END:DAYLIGHT
BEGIN:STANDARD
TZOFFSETFROM:-0400
TZOFFSETTO:-0500
TZNAME:EST
DTSTART:20231105T060000
END:STANDARD
BEGIN:DAYLIGHT
TZOFFSETFROM:-0500
TZOFFSETTO:-0400
TZNAME:EDT
DTSTART:20240310T070000
END:DAYLIGHT
BEGIN:STANDARD
TZOFFSETFROM:-0400
TZOFFSETTO:-0500
TZNAME:EST
DTSTART:20241103T060000
END:STANDARD
BEGIN:DAYLIGHT
TZOFFSETFROM:-0500
TZOFFSETTO:-0400
TZNAME:EDT
DTSTART:20250309T070000
END:DAYLIGHT
BEGIN:STANDARD
TZOFFSETFROM:-0400
TZOFFSETTO:-0500
TZNAME:EST
DTSTART:20251102T060000
END:STANDARD
END:VTIMEZONE
BEGIN:VEVENT
DTSTART;TZID=America/Indiana/Indianapolis:20240503T133000
DTEND;TZID=America/Indiana/Indianapolis:20240503T160000
DTSTAMP:20260421T035345
CREATED:20240329T192529Z
LAST-MODIFIED:20240329T192529Z
UID:10000021-1714743000-1714752000@tandembloomington.org
SUMMARY:Coping in Labor and Birth Class
DESCRIPTION:Having an understanding of what happens in the body and mind during labor and birth can provide confidence and reassurance and decrease stress for this major life event. Learning about the labor process doesn’t have to be stressful\, this can be fun and engaging! Often\, people avoid childbirth education\, assuming they will learn as they are in labor. This can be much harder to process\, as labor changes how our brains work and process information in real-time! Join us for a class about uncomplicated labor and birth. This session will cover what to look for to know when labor starts\, when to call your provider\, what changes will occur as labor advances\, and what happens immediately after birth. Look for our next courses to cover things like induction\, epidurals\, water birth\, cesareans\, and labor support! \nRegistration Required: https://forms.office.com/r/NeyJpV5TFF
URL:https://tandembloomington.org/event/coping-in-labor-and-birth-class/
LOCATION:Tandem\, 2613 E 3rd St\, Bloomington\, IN\, 47401\, United States
GEO:39.1644364;-86.5000476
X-APPLE-STRUCTURED-LOCATION;VALUE=URI;X-ADDRESS=Tandem 2613 E 3rd St Bloomington IN 47401 United States;X-APPLE-RADIUS=500;X-TITLE=2613 E 3rd St:geo:-86.5000476,39.1644364
END:VEVENT
END:VCALENDAR