BEGIN:VCALENDAR
VERSION:2.0
PRODID:-//Tandem - ECPv6.15.20//NONSGML v1.0//EN
CALSCALE:GREGORIAN
METHOD:PUBLISH
X-ORIGINAL-URL:https://tandembloomington.org
X-WR-CALDESC:Events for Tandem
REFRESH-INTERVAL;VALUE=DURATION:PT1H
X-Robots-Tag:noindex
X-PUBLISHED-TTL:PT1H
BEGIN:VTIMEZONE
TZID:America/Indiana/Indianapolis
BEGIN:DAYLIGHT
TZOFFSETFROM:-0500
TZOFFSETTO:-0400
TZNAME:EDT
DTSTART:20250309T070000
END:DAYLIGHT
BEGIN:STANDARD
TZOFFSETFROM:-0400
TZOFFSETTO:-0500
TZNAME:EST
DTSTART:20251102T060000
END:STANDARD
BEGIN:DAYLIGHT
TZOFFSETFROM:-0500
TZOFFSETTO:-0400
TZNAME:EDT
DTSTART:20260308T070000
END:DAYLIGHT
BEGIN:STANDARD
TZOFFSETFROM:-0400
TZOFFSETTO:-0500
TZNAME:EST
DTSTART:20261101T060000
END:STANDARD
BEGIN:DAYLIGHT
TZOFFSETFROM:-0500
TZOFFSETTO:-0400
TZNAME:EDT
DTSTART:20270314T070000
END:DAYLIGHT
BEGIN:STANDARD
TZOFFSETFROM:-0400
TZOFFSETTO:-0500
TZNAME:EST
DTSTART:20271107T060000
END:STANDARD
END:VTIMEZONE
BEGIN:VEVENT
DTSTART;TZID=America/Indiana/Indianapolis:20260502T093000
DTEND;TZID=America/Indiana/Indianapolis:20260502T110000
DTSTAMP:20260420T221230
CREATED:20260420T183334Z
LAST-MODIFIED:20260420T183334Z
UID:10007457-1777714200-1777719600@tandembloomington.org
SUMMARY:Circle Time with Margo
DESCRIPTION:Circle Time with Margo will include multi-lingual stores\, dance and FUN!\nFor toddlers and pre-schoolers\, babies and older siblings welcome.
URL:https://tandembloomington.org/event/circle-time-with-margo/
LOCATION:2613 E 3rd St\, Bloomingdale\, IN\, United States
CATEGORIES:Tandem Groups
GEO:39.83337;-87.24974
END:VEVENT
BEGIN:VEVENT
DTSTART;TZID=America/Indiana/Indianapolis:20260523T093000
DTEND;TZID=America/Indiana/Indianapolis:20260523T110000
DTSTAMP:20260420T221230
CREATED:20260420T183335Z
LAST-MODIFIED:20260420T183335Z
UID:10007458-1779528600-1779534000@tandembloomington.org
SUMMARY:Circle Time with Margo
DESCRIPTION:Circle Time with Margo will include multi-lingual stores\, dance and FUN!\nFor toddlers and pre-schoolers\, babies and older siblings welcome.
URL:https://tandembloomington.org/event/circle-time-with-margo-2/
LOCATION:2613 E 3rd St\, Bloomingdale\, IN\, United States
CATEGORIES:Tandem Groups
GEO:39.83337;-87.24974
END:VEVENT
BEGIN:VEVENT
DTSTART;TZID=America/Indiana/Indianapolis:20261017T100000
DTEND;TZID=America/Indiana/Indianapolis:20261017T120000
DTSTAMP:20260420T221230
CREATED:20260416T161026Z
LAST-MODIFIED:20260416T161026Z
UID:10007453-1792231200-1792238400@tandembloomington.org
SUMMARY:Comfort Measures
DESCRIPTION:Comfort Measures is a two-hour\, stand alone\, paid class ($20) designed to focus on both physical and emotional coping strategies such as position changes\, movement\, use of birth balls\, warm showers or baths\, counter-pressure\, visualization\, music\, and continuous support from a partner or doula. Course registration includes attendance for the birthing person and one additional person (can be spouse\, partner\, parent\, friend\, or other support person).\nRegister here: https://forms.office.com/r/ZH1AFH5muM
URL:https://tandembloomington.org/event/comfort-measures/
LOCATION:2613 E 3rd St\, Bloomingdale\, IN\, United States
CATEGORIES:Childbirth Education
GEO:39.83337;-87.24974
END:VEVENT
END:VCALENDAR