BEGIN:VCALENDAR
VERSION:2.0
PRODID:-//Tandem - ECPv6.15.20//NONSGML v1.0//EN
CALSCALE:GREGORIAN
METHOD:PUBLISH
X-WR-CALNAME:Tandem
X-ORIGINAL-URL:https://tandembloomington.org
X-WR-CALDESC:Events for Tandem
REFRESH-INTERVAL;VALUE=DURATION:PT1H
X-Robots-Tag:noindex
X-PUBLISHED-TTL:PT1H
BEGIN:VTIMEZONE
TZID:America/Indiana/Indianapolis
BEGIN:DAYLIGHT
TZOFFSETFROM:-0500
TZOFFSETTO:-0400
TZNAME:EDT
DTSTART:20250309T070000
END:DAYLIGHT
BEGIN:STANDARD
TZOFFSETFROM:-0400
TZOFFSETTO:-0500
TZNAME:EST
DTSTART:20251102T060000
END:STANDARD
BEGIN:DAYLIGHT
TZOFFSETFROM:-0500
TZOFFSETTO:-0400
TZNAME:EDT
DTSTART:20260308T070000
END:DAYLIGHT
BEGIN:STANDARD
TZOFFSETFROM:-0400
TZOFFSETTO:-0500
TZNAME:EST
DTSTART:20261101T060000
END:STANDARD
BEGIN:DAYLIGHT
TZOFFSETFROM:-0500
TZOFFSETTO:-0400
TZNAME:EDT
DTSTART:20270314T070000
END:DAYLIGHT
BEGIN:STANDARD
TZOFFSETFROM:-0400
TZOFFSETTO:-0500
TZNAME:EST
DTSTART:20271107T060000
END:STANDARD
END:VTIMEZONE
BEGIN:VEVENT
DTSTART;TZID=America/Indiana/Indianapolis:20260423T140000
DTEND;TZID=America/Indiana/Indianapolis:20260423T160000
DTSTAMP:20260420T212705
CREATED:20260420T170208Z
LAST-MODIFIED:20260420T170208Z
UID:10007456-1776952800-1776960000@tandembloomington.org
SUMMARY:Tandem at Healthapalooza
DESCRIPTION:Drop by Tandem’s booth at Healthapalooza to learn about our services and pick up free resources.
URL:https://tandembloomington.org/event/tandem-at-healthapalooza/
LOCATION:Bloomington High School South (1965 S Walnut St\, Bloomington\, IN 47401\, United States)
END:VEVENT
END:VCALENDAR